BEGIN:VCALENDAR
VERSION:2.0
PRODID:-//Eventin//Event Calendar//EN
CALSCALE:GREGORIAN
METHOD:PUBLISH
BEGIN:VEVENT
UID:97968de7997ad6163b2e546d7d0ebeb0@www.haltwhistlewalkingfestival.org
SUMMARY:Walk 1: Fells on the South Side
DESCRIPTION:A great walk to start our 2026 Festival with riverside\, woodla
 nd and the wild fells south of Haltwhistle.\nThese fells are rarely visited
  and many of the tracks are indistinct so be prepared for grassy tussocks\,
  mud and wet ground in places (walking boots essential). You’ll be reward
 ed with some wonderfully varied scenery and very little tarmac!\n\nWalk Sta
 ts\nGrade 3 - Strenuous\nPrice: £10\nCapacity: 25\nDistance: 13.5 miles\n
 Ascent/Descent: 1305ft\n\nNotes\nExtra Info: n/a\nMeet: 9.50am for 10.00a
 m start\n\nStart Point\nHaltwhistle Market PlaceMain StreetHaltwhistleNorth
 umberlandNE49 0BL\n \nGrid Ref: NY708640\nWhat3Words: pigtails.pianists.va
 lley\nShow on Google Maps\n\nGetting There\nThis is accessible to those sta
 ying in Haltwhistle without a car as it begins and ends in the Market Place
 \, Haltwhistle.\nBy Car: There is a large car park beside Sainsbury’s\, 
 off Fair Hill. Sat Nav post code NE49 9DZ.\nBy Train: Haltwhistle train st
 ation. www.northernrailway.co.uk. Allow 5-10 mins walk to start.\nBy Bus:
  Regular buses services through Haltwhistle. www.stagecoachbus.com
LOCATION:Haltwhistle Market Place
DTSTAMP:20260425T153733Z
DTSTART:20260425T090000Z
DTEND:20260425T160000Z
END:VEVENT
END:VCALENDAR
