BEGIN:VCALENDAR
VERSION:2.0
PRODID:-//Eventin//Event Calendar//EN
CALSCALE:GREGORIAN
METHOD:PUBLISH
BEGIN:VEVENT
UID:b8360fb51bc93478b6bbde5efdd9a053@www.haltwhistlewalkingfestival.org
SUMMARY:Walk 2: A Peek Behind the Wall
DESCRIPTION:We follow a wooded burn out of Haltwhistle before joining a sho
 rt section of the Pennine Way and continuing north to open countryside.  H
 ere we look back to Hadrian’s Wall above dramatic Cawfield Crags before t
 urning south to cross the Wall and descend to Hallpeat Moss - a well-preser
 ved farmhouse with a traditional stone-slated roof and stock buildings.  W
 e continue steadily downhill to rejoin the burn and head back into Haltwhis
 tle. \n\nWalk Stats\nGrade 2 - Moderate\nPrice: £10\nCapacity: 25\nDista
 nce: 7 miles\nAscent/Descent: 783ft\n\nNotes\nExtra Info: n/a\nMeet: 10.20
 am for 10.30am start\n\nStart Point\nHaltwhistle Market PlaceMain StreetHal
 twhistleNorthumberlandNE49 0BL\n \nGrid Ref: NY708640\nWhat3Words: pigtail
 s.pianists.valley\nShow on Google Maps\n\nGetting There\nThis is accessible
  to those staying in Haltwhistle without a car as it begins and ends in the
  Market Place\, Haltwhistle.\nBy Car: There is a large car park beside Sai
 nsbury’s\, off Fair Hill. Sat Nav post code NE49 9DZ.\nBy Train: Haltwhi
 stle train station. www.northernrailway.co.uk. Allow 5-10 mins walk to sta
 rt.\nBy Bus: Regular buses services through Haltwhistle. www.stagecoachbu
 s.com
LOCATION:Haltwhistle Market Place
DTSTAMP:20260425T153837Z
DTSTART:20260425T092000Z
DTEND:20260425T160000Z
END:VEVENT
END:VCALENDAR
