BEGIN:VCALENDAR
VERSION:2.0
PRODID:-//Eventin//Event Calendar//EN
CALSCALE:GREGORIAN
METHOD:PUBLISH
BEGIN:VEVENT
UID:43000f996cbe9721ee3a341dcca1d231@www.haltwhistlewalkingfestival.org
SUMMARY:Walk 3: Leg Stretcher Challenge
DESCRIPTION:Our popular Leg Stretcher this year links sections of the River
  Tyne Trail\, the Pennine Way\, A Pennine Journey and the Hadrian’s Wall 
 Path\, plus some of our selected local paths to give a flavour of the wonde
 rful\, varied scenery on Haltwhistle’s doorstep!\n\nWalk Stats\nGrade 4 -
  Challenging ++\nPrice: £10\nCapacity: 25\nDistance: 20 miles\nAscent/Des
 cent: 1883ft\n\nNotes\nExtra Info: Bring sufficient packed lunch\, snacks a
 nd drinks for a full day. Wear suitable footwear. Dress for changeable weat
 her.\nMeet: 7.50am for 8.00am start\n\nStart Point\nHaltwhistle Market Plac
 eMain StreetHaltwhistleNorthumberlandNE49 0BL\n \nGrid Ref: NY708640\nWhat
 3Words: pigtails.pianists.valley\nShow on Google Maps\n\nGetting There\nThi
 s is accessible to those staying in Haltwhistle without a car as it begins 
 and ends in the Market Place\, Haltwhistle.\nBy Car: There is a large car 
 park beside Sainsbury’s\, off Fair Hill. Sat Nav post code NE49 9DZ.\nBy 
 Train: Haltwhistle train station. www.northernrailway.co.uk. Allow 5-10 m
 ins walk to start.\nBy Bus: Regular buses services through Haltwhistle. w
 ww.stagecoachbus.com
LOCATION:Haltwhistle Market Place
DTSTAMP:20260425T153836Z
DTSTART:20260426T070000Z
DTEND:20260426T170000Z
END:VEVENT
END:VCALENDAR
