BEGIN:VCALENDAR
VERSION:2.0
PRODID:-//Eventin//Event Calendar//EN
CALSCALE:GREGORIAN
METHOD:PUBLISH
BEGIN:VEVENT
UID:20fec16caafadadf8e2a81f380b9c0a5@www.haltwhistlewalkingfestival.org
SUMMARY:Walk 4: Essential Northern Rocks!
DESCRIPTION:Come along and meet Ian Jackson\, geologist and author of sever
 al bestselling books including his most recent ones ‘Defined By Stones’
  and ‘Rocks at the Edge of the Empire’.\nIf you’d like to discover ho
 w reliant our Roman and prehistoric ancestors were on rocky places\, this i
 s the walk for you. There are a couple of short steep ascents\, but the vie
 ws and the knowledge gained will be worth the effort!\n\nWalk Stats\nGrade 
 2 - Moderate\nPrice: £ 15\nCapacity: 15\nDistance: approx. 6 miles\nAscent
 /Descent: approx. 660ft\n\nNotes\nExtra Info: This walk begins with a shor
 t introductory presentation at The Sill\, where Ian’s books will be on sa
 le.\nMeet: 9:50am for 10.00am start\n\nStart Point\nThe Sill Landscape and 
 Discovery CentreNational Landscape Discovery CentreBardon MillNorthumberlan
 dNE47 7AN\n \nGrid Ref: NY752668\nWhat3Words: streak.mysteries.warmers\nVi
 ew on Google Maps\n\nGetting There\nBy Car: The Sill is on the B6318. Car p
 ark charges apply.\nBy Train: n/a\nBy Bus: AD122 - www.gonortheast.co.uk/
 ad122
LOCATION:The Sill Landscape and Discovery Centre
DTSTAMP:20260425T153837Z
DTSTART:20260426T090000Z
DTEND:20260426T160000Z
END:VEVENT
END:VCALENDAR
