BEGIN:VCALENDAR
VERSION:2.0
PRODID:-//Eventin//Event Calendar//EN
CALSCALE:GREGORIAN
METHOD:PUBLISH
BEGIN:VEVENT
UID:3561b3c1f0ece8da692c9e2443f3aa01@www.haltwhistlewalkingfestival.org
SUMMARY:Walk 5: Blanchland Past and Present
DESCRIPTION:We start in the delightful conservation village of Blanchland a
 nd take a route past a couple of tiny hamlets before heading onto the moors
  along the ancient Carriers’ Way.  This was a bustling area in the heyda
 y of lead mining\, with traces of medieval and prehistoric history too.  A
 fter a few miles on the open fells\, we descend through deciduous woodland 
 back into Blanchland.  After the walk why not enjoy a pint in the village
 ’s medieval Lord Crewe Arms?\n\nWalk Stats\nGrade 2 - Moderate\nPrice: £
  10\nCapacity: 25\nDistance: 7.5 miles\nAscent/Descent: 931ft\n\nNotes\nEx
 tra Info: n/a\nMeet: 9:50am for 10.00am start\n\nStart Point\nBlanchland Vi
 llage Car ParkBlanchlandNorthumberlandDH8 9UA\n \nGrid Ref: NY964505\nWhat
 3Words: distorts.clinking.comically\nView on Google Maps\n\nGetting There\n
 By Car: Follow signs to Blanchland off A68. Car Park is signed. £2 cash H
 onesty Box.By Train: n/aBy Bus: n/a
LOCATION:Blanchland
DTSTAMP:20260425T153725Z
DTSTART:20260427T090000Z
DTEND:20260427T160000Z
END:VEVENT
END:VCALENDAR
