BEGIN:VCALENDAR
VERSION:2.0
PRODID:-//Eventin//Event Calendar//EN
CALSCALE:GREGORIAN
METHOD:PUBLISH
BEGIN:VEVENT
UID:15a81011b1e87eac9ba764954f33e898@www.haltwhistlewalkingfestival.org
SUMMARY:Walk 6: Mosses and Lichens in Hadrian’s Wall Country
DESCRIPTION:In damp shady place where the air is free of pollution\, mosses
  and lichens can thrive. Come along and join our local expert Gordon Beakes
 \, to learn more about these fascinating organisms that grow all around us 
 on stone walls\, gravestones rocks\, trees\, and the woodland floor and abs
 orbing carbon dioxide and pollution from the air.\n\nWalk Stats\nGrade 2 - 
 Moderate\nPrice: £ 15\nCapacity: 15\nDistance: 6 miles\nAscent/Descent: 4
 70ft\n\nNotes\nExtra Info: n/a\nMeet: 9:50am for 10.00am start\n\nStart Poi
 nt\nHaltwhistle Market PlaceMain StreetHaltwhistleNorthumberlandNE49 0BL\n
  \nGrid Ref: NY708640\nWhat3Words: pigtails.pianists.valley\nShow on Goo
 gle Maps\n\nGetting There\nThis is accessible to those staying in Haltwhist
 le without a car as it begins and ends in the Market Place\, Haltwhistle.\n
 By Car: There is a large car park beside Sainsbury’s\, off Fair Hill. Sa
 t Nav post code NE49 9DZ.\nBy Train: Haltwhistle train station. www.north
 ernrailway.co.uk. Allow 5-10 mins walk to start.\nBy Bus: Regular buses se
 rvices through Haltwhistle. www.stagecoachbus.com
LOCATION:Haltwhistle Market Place
DTSTAMP:20260425T153907Z
DTSTART:20260427T090000Z
DTEND:20260427T160000Z
END:VEVENT
END:VCALENDAR
