BEGIN:VCALENDAR
VERSION:2.0
PRODID:-//Eventin//Event Calendar//EN
CALSCALE:GREGORIAN
METHOD:PUBLISH
BEGIN:VEVENT
UID:c2198d0d1edfd0b98d2e26b1d6ae48cb@www.haltwhistlewalkingfestival.org
SUMMARY:Walk 7: Killhope Law and the Tea Trail
DESCRIPTION:This walk showcases the wild North Pennines\, with its mining h
 eritage\, open moors\, curlews and lapwings.\nAfter the walk’s highest po
 int at Killhope Law on the Durham / Northumberland border we join Isaac’s
  Tea Trail\, the trading route of tea merchant Isaac Holden about 200 years
  ago. We leave Isaac’s Trail to descend past the hamlet of Swin Hope acro
 ss undulating moorland to our start point\, with almost no tarmac on our en
 tire route!\n\nWalk Stats\nGrade 3 - Strenuous\nPrice: £ 10\nCapacity: 25\
 nDistance: 10 miles\nAscent/Descent: 1465ft\n\nNotes\nExtra Info: n/a\nMee
 t: 9:50am for 10.00am start\n\nStart Point\nDirt PotAllenheadsNorthumberlan
 dNE47 9HE\n \nGrid Ref: NY850464\nWhat3Words: tomato.keyboard.speeding\nSh
 ow on Google Maps\n\nGetting There\nBy Car: The parking area at Dirt Pot i
 s just off the B6295 about 1 mile north of Allenheads.\nBy Train: No train
  services nearby\nBy Bus: No bus services
LOCATION:Dirt Pot\, Allenheads
DTSTAMP:20260425T153751Z
DTSTART:20260428T090000Z
DTEND:20260428T160000Z
END:VEVENT
END:VCALENDAR
