BEGIN:VCALENDAR
VERSION:2.0
PRODID:-//Eventin//Event Calendar//EN
CALSCALE:GREGORIAN
METHOD:PUBLISH
BEGIN:VEVENT
UID:49e2fe64795417524b0d06589140bacf@www.haltwhistlewalkingfestival.org
SUMMARY:Walk 8: Liddells – A Local Nature Reserve
DESCRIPTION:We shall walk up to the Liddells reserve enjoying stunning land
 scape views and discover the inspiring story behind the creation of a local
  nature reserve.\nJohn and Clare bought 17.5 acres of land in 2013 and are 
 boosting biodiversity by transforming the area into a thriving nature reser
 ve. We shall be welcomed by them\, and they will share insights into the de
 velopment of the site before a guided exploration of the reserve. After enj
 oying our packed lunches\, we will begin the return walk to Wall.\n\nWalk S
 tats\nGrade 2 - Moderate\nPrice: £ 15\nCapacity: 20\nDistance: approx. 5 m
 iles\nAscent/Descent: 513ft\n\nNotes\nExtra Info: n/a\nMeet: 10:20am for 1
 0.30am start\n\nStart Point\nWall Village\nLayby parking just north of Wall
  village on A6079.\nNorthumberland\n \nGrid Ref: NY918693\nWhat3Words: def
 erring.conveys.original\n \nShow on Google Maps\n\nGetting There\nBy Car: 
 From A69 west of Hexham take A6079 north through Acomb.\nBy Train: n/a\nBy 
 Bus: Hadrian’s Wall Bus www.gonortheast.co.uk/ad122
LOCATION:Wall Village
DTSTAMP:20260425T153836Z
DTSTART:20260428T093000Z
DTEND:20260428T160000Z
END:VEVENT
END:VCALENDAR
