BEGIN:VCALENDAR
VERSION:2.0
PRODID:-//Eventin//Event Calendar//EN
CALSCALE:GREGORIAN
METHOD:PUBLISH
BEGIN:VEVENT
UID:50cedf071bef96a2a95242380505aadd@www.haltwhistlewalkingfestival.org
SUMMARY:Walk 9: ‘Long Meg and her Daughters’ and Lacy’s Caves
DESCRIPTION:It’s a walk full of interest as not only do you see Long Meg\
 , a huge Neolithic stone\, but if you count her stone ‘daughters’ and g
 et the same number twice beware\, you break the spell\, and the witches may
  return! After passing the solitary St Micheal + All Angels Church\, we con
 tinue onwards through extensive woodlands and alongside the beautiful river
  Eden to reach Lacey’s Caves. Our return is alongside the Carlisle - Sett
 le railway.\n\nWalk Stats\nGrade 3 - Strenuous\nPrice: £ 10\nCapacity: 25\
 nDistance: 11 miles\nAscent/Descent: 850ft\n\nNotes\nExtra Info: n/a\nMeet
 : 9:50am for 10.00am start\n\nStart Point\nLong Meg car park\nSat Nav post 
 code CA10 1NW - check\n\nGrid Ref: NY571367\nWhat3Words: submitted.peanut.t
 emplates\n\n \nShow on Google Maps\n\nGetting There\nBy Car: Coming from t
 he east on A686\, take minor road for Hunsonby and beyond the village fork 
 left\; from the west on A686 take minor road going north from Langwathby\, 
 and through Little Salkeld\, again part of National Cycle Route..\nBy Train
 : n/a\nBy Bus: n/a
LOCATION:Long Meg Car Park
DTSTAMP:20260425T153726Z
DTSTART:20260429T090000Z
DTEND:20260429T160000Z
END:VEVENT
END:VCALENDAR
