BEGIN:VCALENDAR
VERSION:2.0
PRODID:-//Eventin//Event Calendar//EN
CALSCALE:GREGORIAN
METHOD:PUBLISH
BEGIN:VEVENT
UID:4f8184b3781b234f85af1986c56a71da@www.haltwhistlewalkingfestival.org
SUMMARY:Walk 10: East Allen Tree Trail
DESCRIPTION:Giant redwoods in Northumberland? Join tree expert Nick Johnson
  on a walk filled with local folklore\, natural and social history and most
  of all trees: lots of them.\nA highlight of this walk is the privately own
 ed Catton Exotic Tree Arboretum\, with its collection of rare species and e
 ven its own Catton Henge. The route passes through the Higher Ground commun
 ity garden and the Witches Circle in Deneholme Wood\, and if we’re really
  lucky\, we may even glimpse a red squirrel!\n\nWalk Stats\nGrade 2 - Moder
 ate\nPrice: £ 15\nCapacity: 15\nDistance: 5 miles\nAscent/Descent: 500ft\
 n\nNotes\nExtra Info: n/a\nMeet: 9:50am for 10.00am start\n\nStart Point\n\
 nAllendale\nOutside the Kings Arms in the Market Place.\n\nGrid Ref: NY8375
 59\nWhat3Words: crockery.shakes.fussed\n \nShow on Google Maps\n\nGetting 
 There\nBy Car: Park carefully in the village.\nBy Train: n/a\nBy Bus: 688 s
 ervice Hexham to Allenheads (stops at Allendale). www.gonortheast.co.uk
LOCATION:Allendale
DTSTAMP:20260425T153752Z
DTSTART:20260429T090000Z
DTEND:20260429T160000Z
END:VEVENT
END:VCALENDAR
