BEGIN:VCALENDAR
VERSION:2.0
PRODID:-//Eventin//Event Calendar//EN
CALSCALE:GREGORIAN
METHOD:PUBLISH
BEGIN:VEVENT
UID:ec2b8bdfe4936e2440567bd7aa5ac4da@www.haltwhistlewalkingfestival.org
SUMMARY:Walk 11: Featherstone – A Castle and a Camp
DESCRIPTION:A delightful walk following the River South Tyne and a stretch 
 of the Pennine Way followed by a rare chance to take a one-hour tour of Gra
 de 1 listed Featherstone Castle\, guided by its current custodians.\nLocate
 d just 4 miles southwest of Haltwhistle\, Featherstone’s history dates ba
 ck to the 11th century\, but is probably best known locally for being the l
 ocation of the notorious Camp 18 after the Second World War\, where 4\,000 
 senior German officers were held and assessed before they could be repatria
 ted. Tea and coffee will be provided. There is no charge for the tour\, but
  donations would be welcome.\n\nWalk Stats\nGrade 2 - Moderate + (includes 
 some steep climbs and descents)\nPrice: £ 15\nCapacity: 20\nDistance: 6.5 
 miles\nAscent/Descent: 700ft\n\nNotes\nExtra Info: Bring packed lunch\, sn
 acks and a drink.\nMeet: 9:50am for 10.00am start\n\nStart Point\nFeatherst
 one Castle\nHaltwhistle\nSat Nav post code NE49 0JG\n\nGrid Ref: NY674609\n
 What3Words: nudge.escapes.strays\n \nShow on Google Maps\n\nGetting There\
 nBy Car: From A69 Haltwhistle bypass turn south on B road signed to Coanwoo
 d. In approximately one mile turn right along minor road beside the river t
 o Featherstone Castle. .\nBy Train: n/a\nBy Bus: n/a
LOCATION:Featherstone Castle
DTSTAMP:20260425T153734Z
DTSTART:20260430T090000Z
DTEND:20260430T160000Z
END:VEVENT
END:VCALENDAR
