BEGIN:VCALENDAR
VERSION:2.0
PRODID:-//Eventin//Event Calendar//EN
CALSCALE:GREGORIAN
METHOD:PUBLISH
BEGIN:VEVENT
UID:a4bc7a060944adb519374feedd711c6e@www.haltwhistlewalkingfestival.org
SUMMARY:Walk 12: Gilsland Circular
DESCRIPTION:A unique opportunity to explore both Northumberland and Cumberl
 and\, tracing the county border as it meanders on either side of the River 
 Irthing\, the boundary between the two counties.\nThe route celebrates dive
 rse landscapes including stunning panoramic views\, picturesque woodland an
 d peaceful riverside paths\, and includes the “Popping Stone”\, a notab
 le landmark where\, according to legend\, Walter Scott proposed to his belo
 ved.\n\nWalk Stats\nGrade 2 - Moderate\nPrice: £ 10\nCapacity: 25\nDistanc
 e: 7 miles\nAscent/Descent: 513ft\n\nNotes\nExtra Info: Bring packed lunch
 \, snacks and a drink.\nMeet: 10:20am for 10.30am start\n\nStart Point\nGil
 sland\nOld Railway Station\, adjacent to Samson Inn.\nSat Nav post code CA8
  7DR\n\nGrid Ref: NY636663\nWhat3Words: opens.major.carbonate\n \nShow on 
 Google Maps\n\nGetting There\nBy Car: From A 69 at Greenhead turn north to 
 follow B6318 to Gilsland. Turn left immediately before railway arch to park
 ing area on right..\nBy Train: n/a\nBy Bus: No. 685 Carlisle to Newcastle r
 oute - www.stagecoachbus.com
LOCATION:Gilsland
DTSTAMP:20260425T153733Z
DTSTART:20260430T093000Z
DTEND:20260430T160000Z
END:VEVENT
END:VCALENDAR
