BEGIN:VCALENDAR
VERSION:2.0
PRODID:-//Eventin//Event Calendar//EN
CALSCALE:GREGORIAN
METHOD:PUBLISH
BEGIN:VEVENT
UID:b9696c1bc9b694de7bef0ea5cdaeb087@www.haltwhistlewalkingfestival.org
SUMMARY:Walk 13: Knarsdale and the Pennine Way
DESCRIPTION:We start in the pretty village of Slaggyford at the north end o
 f the South Tyne Railway heritage line.\nIt is a beautiful\, varied route w
 ith open moors\, very remote farmsteads\, lovely woodland beside the Knar B
 urn\, then a short section on the Pennine Way.  Finally\, we head back int
 o Slaggyford along an easy trail beside the river South Tyne.\n\nWalk Stats
 \nGrade 2 - Moderate+\nPrice: £ 10\nCapacity: 25\nDistance: 8 miles\nAscen
 t/Descent: 1\,073ft\nIncludes 7 stone step stiles.\n\nNotes\nExtra Info: B
 ring packed lunch\, snacks and a drink.\nMeet: 9:50am for 10.00am start\n\n
 Start Point\nSlaggyford Station Car Park\nSouth Tynedale Railway’s Slaggy
 ford station is situated just off the A689 Alston-Brampton road.\nParking i
 s free courtesy of South Tynedale Railway – The Friendly Heritage Attract
 ion\nSat Nav postcode CA8 7NH\nGrid Ref: NY676523\n\nWhat3Words: clerk.pixe
 l.joystick\n \nShow on Google Maps\n\nGetting There\nBy Car: Slaggyford is
  just off the A689 approx. 5 miles north of Alston. Sat Nav postcode CA8 7N
 H.\nBy Train: n/a\nBy Bus: n/a
LOCATION:Slaggyford
DTSTAMP:20260425T153753Z
DTSTART:20260501T090000Z
DTEND:20260501T160000Z
END:VEVENT
END:VCALENDAR
