BEGIN:VCALENDAR
VERSION:2.0
PRODID:-//Eventin//Event Calendar//EN
CALSCALE:GREGORIAN
METHOD:PUBLISH
BEGIN:VEVENT
UID:89269bf7e012ee91f7bc0a42dafea764@www.haltwhistlewalkingfestival.org
SUMMARY:Walk 14: Snods Edge and a Cream Tea
DESCRIPTION:Build up an appetite for a delicious cream tea provided by the 
 ladies of Shotley W.I by taking this delightful walk through countryside on
  the southern edge of Northumberland.\nWe follow a path across fields and a
  series of wooded plantations\, beginning and ending at Snods Edge Communit
 y Hall\, by which time you will be more than ready to enjoy all the goodies
  on offer.\n\nWalk Stats\nGrade 2 - Moderate\nPrice: £ 15\nCapacity: 25\nD
 istance: approx. 5 miles\nAscent/Descent: 387ft\n\nNotes\nExtra Info: The 
 cream tea will be delicious but bring a packed lunch\, and a drink for the 
 walk.\nMeet: 11:35am for 11.45am start\n\nStart Point\nSnods Edge Community
  Hall\, Shotley Bridge\, Consett DH8 9TJ.\nGrid Ref: NZ065525\n\nWhat3Words
 : pampered.lunch.curve\n \nShow on Google Maps\n\nGetting There\nBy Car: F
 rom Hexham 16 miles via A69 and A68. Approximately 4 miles from Consett.\nB
 y Train: n/a\nBy Bus: n/a
LOCATION:Snods Edge\, Shotley Bridge
DTSTAMP:20260425T153733Z
DTSTART:20260501T093000Z
DTEND:20260501T160000Z
END:VEVENT
END:VCALENDAR
