BEGIN:VCALENDAR
VERSION:2.0
PRODID:-//Eventin//Event Calendar//EN
CALSCALE:GREGORIAN
METHOD:PUBLISH
BEGIN:VEVENT
UID:2fba406fc9537ae701012489865a89ab@www.haltwhistlewalkingfestival.org
SUMMARY:Walk 15: ‘Wall Across Northumberland’ Day 1
DESCRIPTION:Day 1 of a three-day linear walk from the Tyne and Wear/Northum
 berland Border to Stagshaw roundabout.\nOur coach takes us from Haltwhistle
  to the Northumberland / Tyne and Wear border at Newburn where we join the 
 Hadrian’s Wall Path on the riverside\, then climb steadily through fields
  and woodlands to Heddon on the Wall.\nHere we see our first section of the
  Wall itself\, an impressive broad section of Roman engineering.  The next
  6 or so miles are relatively flat with superb views south over the Tyne Va
 lley. Shortly after Whittle Dene reservoirs – a great bird-spotting area 
 – we start climbing again to our coach meeting point at Hadrian’s Wall 
 Port Gate.\n\nWalk Stats\nGrade 4 - Challenging\nPrice: £ 25\nCapacity: 25
 \nDistance: 14 miles\nAscent: 1295ft\nDescent: 614ft\n\nNotes\nExtra Info: 
 Bring a packed lunch\, snacks and sufficient to drink for a full day.\nMeet
 : 8:20am for 8.30am departure by coach\n\nStart Point\nHaltwhistle Market P
 laceMain StreetHaltwhistleNorthumberlandNE49 0BL\n \nGrid Ref: NY708640\n
 What3Words: pigtails.pianists.valley\nShow on Google Maps\n\nGetting There
 \nThis is accessible to those staying in Haltwhistle without a car as it be
 gins and ends in the Market Place\, Haltwhistle.\nBy Car: There is a large
  car park beside Sainsbury’s\, off Fair Hill. Sat Nav post code NE49 9DZ.
 \nBy Train: Haltwhistle train station. www.northernrailway.co.uk. Allow 5
 -10 mins walk to start.\nBy Bus: Regular buses services through Haltwhistl
 e. www.stagecoachbus.com
LOCATION:Haltwhistle Market Place
DTSTAMP:20260425T140808Z
DTSTART:20260502T073000Z
DTEND:20260502T170000Z
END:VEVENT
END:VCALENDAR
