BEGIN:VCALENDAR
VERSION:2.0
PRODID:-//Eventin//Event Calendar//EN
CALSCALE:GREGORIAN
METHOD:PUBLISH
BEGIN:VEVENT
UID:40eecf78e232d30b1adc8537b73f6231@www.haltwhistlewalkingfestival.org
SUMMARY:Walk 17: ‘Wall Across Northumberland’ Day 2
DESCRIPTION:Day 2 - From Port Gate to Housesteads Roman Fort\nOur coach ta
 kes us from Haltwhistle to yesterday’s end point at Stagshaw roundabout.\
 nWe briefly join St Oswald’s Way and then Hadrian’s Wall National Trail
 \, past the battle site of Heavenfield AD 633\, (Northumberland victory!)\,
  to descend sharply to cross the River North Tyne at Chollerford.  We asce
 nd again and pass some excellent sections of wall and the remains of a Roma
 n temple at Brocolitia.  Towards the end of today’s walk we see the firs
 t of the Wall’s ‘loughs’ at Broomlee before meeting our coach at Hous
 esteads car park. \n\nWalk Stats\nGrade 4 - Challenging ++\nPrice: £ 25\n
 Capacity: 25\nDistance: 16 miles\nAscent: 1450ft\nDescent: 1419ft\n\nNotes\
 nExtra Info: Bring a packed lunch\, snacks and sufficient to drink for a fu
 ll day.\nMeet: 8:20am for 8.30am departure by coach\n\nStart Point\nHaltwhi
 stle Market PlaceMain StreetHaltwhistleNorthumberlandNE49 0BL\n \nGrid Ref
 : NY708640\nWhat3Words: pigtails.pianists.valley\nShow on Google Maps\n\n
 Getting There\nThis is accessible to those staying in Haltwhistle without a
  car as it begins and ends in the Market Place\, Haltwhistle.\nBy Car: The
 re is a large car park beside Sainsbury’s\, off Fair Hill. Sat Nav post c
 ode NE49 9DZ.\nBy Train: Haltwhistle train station. www.northernrailway.c
 o.uk. Allow 5-10 mins walk to start.\nBy Bus: Regular buses services throu
 gh Haltwhistle. www.stagecoachbus.com
LOCATION:Haltwhistle Market Place
DTSTAMP:20260425T142326Z
DTSTART:20260503T073000Z
DTEND:20260503T170000Z
END:VEVENT
END:VCALENDAR
