BEGIN:VCALENDAR
VERSION:2.0
PRODID:-//Eventin//Event Calendar//EN
CALSCALE:GREGORIAN
METHOD:PUBLISH
BEGIN:VEVENT
UID:36550e213e01ddb5e3fa8dea97e009cc@www.haltwhistlewalkingfestival.org
SUMMARY:Walk 19: ‘Wall Across Northumberland’ Day 3
DESCRIPTION:Day 3 - From Housesteads Roman Fort to Gilsland on the \nOur c
 oach takes us from Haltwhistle to yesterday’s end point at Housesteads Ro
 man Fort.\nThe Wall here is high up with fantastic views and spectacular cr
 ags\, and the day includes some of the most iconic sections of the whole Wa
 ll – Steel Rigg\, Cawfield Crags and the now famous Sycamore Gap.  We co
 ntinue beyond Haltwhistle\, past Greenhead\, and complete our walk at Gilsl
 and on the Cumbrian border where our coach will meet us to take us back to 
 Haltwhistle\n\nWalk Stats\nGrade 4 - Challenging +\nPrice: £ 25\nCapacity:
  25\nDistance: 12.5 miles\nAscent: 1251ft\nDescent: 1551ft\n\nNotes\nExtra 
 Info: Bring a packed lunch\, snacks and sufficient to drink for a full day.
  Wear suitable footwear. Dress for changeable weather. There are some steep
  ascents and descents on rough\, rocky terrain today. Come prepared. \nMee
 t: 8:20am for 8.30am departure by coach\n\nStart Point\nHaltwhistle Market 
 PlaceMain StreetHaltwhistleNorthumberlandNE49 0BL\n \nGrid Ref: NY708640\
 nWhat3Words: pigtails.pianists.valley\nShow on Google Maps\n\nGetting Ther
 e\nThis is accessible to those staying in Haltwhistle without a car as it b
 egins and ends in the Market Place\, Haltwhistle.\nBy Car: There is a larg
 e car park beside Sainsbury’s\, off Fair Hill. Sat Nav post code NE49 9DZ
 .\nBy Train: Haltwhistle train station. www.northernrailway.co.uk. Allow 
 5-10 mins walk to start.\nBy Bus: Regular buses services through Haltwhist
 le. www.stagecoachbus.com
LOCATION:Haltwhistle Market Place
DTSTAMP:20260425T140808Z
DTSTART:20260504T073000Z
DTEND:20260504T170000Z
END:VEVENT
END:VCALENDAR
