BEGIN:VCALENDAR
VERSION:2.0
PRODID:-//Eventin//Event Calendar//EN
CALSCALE:GREGORIAN
METHOD:PUBLISH
BEGIN:VEVENT
UID:0d52429c37b0ad7193603bf626b49a94@www.haltwhistlewalkingfestival.org
SUMMARY:Walk 16: Kings Queens and Romans
DESCRIPTION:An iconic route within Hadrian’s Wall World Heritage Site pas
 t Housesteads Roman Fort set high among dramatic scenery with awe-inspiring
  views and legends a-plenty. This walk show cases some of the most photogra
 phed parts of Hadrian's Wall with superb 360° views north and south.\nWher
 e do Kings and Queens fit in? Come and find out! Come and find out about ce
 ntury old tales and fables associated with these rocky outcrops.\n\nWalk St
 ats\nGrade 2 - Moderate\nPrice: £ 10\nCapacity: 25\nDistance: 8 miles\nAsc
 ent/Descent: 890ft\n\nNotes\nExtra Info: Bring a packed lunch\, snacks and 
 a drink.\nMeet: 9:50am for 10.00am start outside the Visitor Centre.\n\nSta
 rt Point\nCar Park for Housesteads Roman Fort Car ParkMilitary Road B 6318P
 arking charges apply\n \nGrid Ref: NY793684\nWhat3Words: farmland.highly.e
 vening\nShow on Google Maps\n\nGetting There\nThis is accessible to those s
 taying in Haltwhistle without a car via the AD122 bus service.\nBy Car: Hou
 sesteads Roman Fort Car Park Sat Nav post code NE47 6NN.\nBy Train: n/a\nBy
  Bus: AD122 Hadrian’s Wall Bus - http://www.gonortheast.co.uk/ad122
LOCATION:Housesteads Roman Fort Car Park
DTSTAMP:20260425T153725Z
DTSTART:20260502T090000Z
DTEND:20260502T160000Z
END:VEVENT
END:VCALENDAR
