BEGIN:VCALENDAR
VERSION:2.0
PRODID:-//Eventin//Event Calendar//EN
CALSCALE:GREGORIAN
METHOD:PUBLISH
BEGIN:VEVENT
UID:54befd4b06f252f6049d46feec15fb28@www.haltwhistlewalkingfestival.org
SUMMARY:Walk 18: Wall to Wall Walking
DESCRIPTION:We start by passing through the small village of Wall\, then he
 ad across farmland to some lovely woodland beside a burn and turning north 
 to Hadrian’s Wall.\nWe cross the Wall at Heavenfield\, the site of a grea
 t battle in AD633 where we are pleased to say\, Northumbria was victorious!
  This is also the start of the popular 79 miles St Oswald’s Way.\n\nWalk 
 Stats\nGrade 2 - Moderate\nPrice: £ 10\nCapacity: 25\nDistance: 7 miles\nA
 scent/Descent: 860ft\n\nNotes\nExtra Info: Bring packed lunch\, snacks and
  sufficient to drink. Wear suitable footwear. Dress for changeable weather.
 \nMeet: 9:50am for 10.00am start\n\nStart Point\nWall Village\nLayby parkin
 g just north of Wall village on A6079.\nNorthumberland\n \nGrid Ref: NY918
 693\nWhat3Words: deferring.conveys.original\n \nShow on Google Maps\n\nGet
 ting There\nBy Car: From A69 west of Hexham take A6079 north through Acomb.
 \nBy Train: n/a\nBy Bus: Hadrian’s Wall Bus www.gonortheast.co.uk/ad122
LOCATION:Wall Village
DTSTAMP:20260425T153751Z
DTSTART:20260503T090000Z
DTEND:20260503T160000Z
END:VEVENT
END:VCALENDAR
