BEGIN:VCALENDAR
VERSION:2.0
PRODID:-//Eventin//Event Calendar//EN
CALSCALE:GREGORIAN
METHOD:PUBLISH
BEGIN:VEVENT
UID:58b991a8a9b60507bd84a9ca89ad695b@www.haltwhistlewalkingfestival.org
SUMMARY:Walk 20: Howay Back to Halty
DESCRIPTION:There is always a party atmosphere on the last day of the Festi
 val as the longer and shorter walks converge on Haltwhistle!\nWe begin our 
 day with a short coach trip to Greenhead where we join Hadrian’s Wall for
  a few miles past Thirlwall Castle and Walltown Crags. We leave the Wall to
  follow the Vallum\, boundary of the Military zone\, across Haltwhistle Com
 mon before dropping down to follow Haltwhistle Burn back to town.\n\nWalk S
 tats\nGrade 2 - Moderate\nPrice: £ 15\nCapacity: 25\nDistance: 7 miles\nAs
 cent: 696ft\nDescent: 729ft\n\nNotes\nExtra Info: Bring a packed lunch\, sn
 acks and sufficient to drink for a full day. Wear suitable footwear. Dress 
 for changeable weather.\nMeet: 10:20am for 10.30am departure by coach\n\nSt
 art Point\nHaltwhistle Market PlaceMain StreetHaltwhistleNorthumberlandNE49
  0BL\n \nGrid Ref: NY708640\nWhat3Words: pigtails.pianists.valley\nShow 
 on Google Maps\n\nGetting There\nThis is accessible to those staying in Hal
 twhistle without a car as it begins and ends in the Market Place\, Haltwhis
 tle.\nBy Car: There is a large car park beside Sainsbury’s\, off Fair Hi
 ll. Sat Nav post code NE49 9DZ.\nBy Train: Haltwhistle train station. www
 .northernrailway.co.uk. Allow 5-10 mins walk to start.\nBy Bus: Regular bu
 ses services through Haltwhistle. www.stagecoachbus.com
LOCATION:Haltwhistle Market Place
DTSTAMP:20260425T153726Z
DTSTART:20260504T093000Z
DTEND:20260504T170000Z
END:VEVENT
END:VCALENDAR
